BEGIN:VCALENDAR
VERSION:2.0
PRODID:-//Grotte di Pradis - ECPv6.10.3//NONSGML v1.0//EN
CALSCALE:GREGORIAN
METHOD:PUBLISH
X-WR-CALNAME:Grotte di Pradis
X-ORIGINAL-URL:https://www.grottedipradis.it
X-WR-CALDESC:Eventi per Grotte di Pradis
REFRESH-INTERVAL;VALUE=DURATION:PT1H
X-Robots-Tag:noindex
X-PUBLISHED-TTL:PT1H
BEGIN:VTIMEZONE
TZID:Europe/Rome
BEGIN:DAYLIGHT
TZOFFSETFROM:+0100
TZOFFSETTO:+0200
TZNAME:CEST
DTSTART:20240331T010000
END:DAYLIGHT
BEGIN:STANDARD
TZOFFSETFROM:+0200
TZOFFSETTO:+0100
TZNAME:CET
DTSTART:20241027T010000
END:STANDARD
END:VTIMEZONE
BEGIN:VEVENT
DTSTART;TZID=Europe/Rome:20240401T100000
DTEND;TZID=Europe/Rome:20240401T190000
DTSTAMP:20260420T111219
CREATED:20240301T160102Z
LAST-MODIFIED:20240301T163824Z
UID:1286-1711965600-1711998000@www.grottedipradis.it
SUMMARY:Apertura 2024 delle Grotte di Pradis
DESCRIPTION:Cosa fare a Pasquetta 2024?\nLunedì primo aprile\, Pasquetta\, vi aspettiamo all’apertura 2024 delle Grotte di Pradis dalle ore 10 alle ore 19. Venite a Clauzetto a passare una giornata immersi nella natura che si risveglia\, alla scoperta di prati e boschi della valle di Pradis. Possibilità di pic-nic nelle aree attrezzate esterne alle Grotte di Pradis.
URL:https://www.grottedipradis.it/evento/apertura-2024-delle-grotte-di-pradis/
LOCATION:Grotte di Pradis\, Via Pradis di Sotto\, Clauzetto\, PN\, 33090\, Italia
CATEGORIES:Eventi
ATTACH;FMTTYPE=image/jpeg:https://www.grottedipradis.it/wp-content/uploads/2024/03/IMG-145-scaled.jpg
END:VEVENT
END:VCALENDAR