BEGIN:VCALENDAR
VERSION:2.0
PRODID:-//Grotte di Pradis - ECPv6.10.3//NONSGML v1.0//EN
CALSCALE:GREGORIAN
METHOD:PUBLISH
X-ORIGINAL-URL:https://www.grottedipradis.it
X-WR-CALDESC:Eventi per Grotte di Pradis
REFRESH-INTERVAL;VALUE=DURATION:PT1H
X-Robots-Tag:noindex
X-PUBLISHED-TTL:PT1H
BEGIN:VTIMEZONE
TZID:Europe/Rome
BEGIN:DAYLIGHT
TZOFFSETFROM:+0100
TZOFFSETTO:+0200
TZNAME:CEST
DTSTART:20250330T010000
END:DAYLIGHT
BEGIN:STANDARD
TZOFFSETFROM:+0200
TZOFFSETTO:+0100
TZNAME:CET
DTSTART:20251026T010000
END:STANDARD
END:VTIMEZONE
BEGIN:VEVENT
DTSTART;TZID=Europe/Rome:20251005T093000
DTEND;TZID=Europe/Rome:20251005T133000
DTSTAMP:20260420T092106
CREATED:20250916T071357Z
LAST-MODIFIED:20250916T071550Z
UID:1506-1759656600-1759671000@www.grottedipradis.it
SUMMARY:Giornate della Preistoria 2025 - Una giornata da Neanderthal
DESCRIPTION:Tornano anche quest’anno le Giornate della Preistoria con laboratori didattici alla scoperta della vita degli antichi abitatori della valle di Pradis! \nVivi una giornata da Neanderthal insieme agli archeologi dell’Università degli Studi di Ferrara. \nScopri il programma delle Giornate della Preistoria!
URL:https://www.grottedipradis.it/evento/giornate-della-preistoria-2025-una-giornata-da-neanderthal/
LOCATION:Grotta del Clusantin
CATEGORIES:Bambini,Cultura,Eventi,Giornate della Preistoria
ATTACH;FMTTYPE=image/png:https://www.grottedipradis.it/wp-content/uploads/2025/09/giornate-della-preistoria.png
END:VEVENT
BEGIN:VEVENT
DTSTART;TZID=Europe/Rome:20251011T190000
DTEND;TZID=Europe/Rome:20251011T210000
DTSTAMP:20260420T092106
CREATED:20250916T072816Z
LAST-MODIFIED:20250916T073100Z
UID:1513-1760209200-1760216400@www.grottedipradis.it
SUMMARY:Prima Notte Preistorica alle Grotte di Pradis!
DESCRIPTION:Un viaggio nel tempo attraverso la notte della Valle di Pradis: a cellulari spenti e alla sola luce delle torce attraverseremo\, ciascuno nella propria solitudine\, la barriera del tempo. \nCi ritroveremo nell’accampamento dei cacciatori di marmotte della Grotta del Clusantin… per fare poi ritorno ai nostri giorni. \nScopri qui come iscriverti alla Notte Preistorica!
URL:https://www.grottedipradis.it/evento/prima-notte-preistorica-alle-grotte-di-pradis/
LOCATION:Grotte di Pradis\, Via Pradis di Sotto\, Clauzetto\, PN\, 33090\, Italia
CATEGORIES:Bambini,Cultura,Eventi,Giornate della Preistoria
ATTACH;FMTTYPE=image/png:https://www.grottedipradis.it/wp-content/uploads/2025/09/giornate-della-preistoria.png
END:VEVENT
BEGIN:VEVENT
DTSTART;TZID=Europe/Rome:20251012T093000
DTEND;TZID=Europe/Rome:20251012T133000
DTSTAMP:20260420T092106
CREATED:20250916T072151Z
LAST-MODIFIED:20250916T072151Z
UID:1511-1760261400-1760275800@www.grottedipradis.it
SUMMARY:Giornate della Preistoria 2025 – Una giornata da Sapiens
DESCRIPTION:Tornano anche quest’anno le Giornate della Preistoria con laboratori didattici alla scoperta della vita degli antichi abitatori della valle di Pradis! \nVivi una giornata da Sapiens insieme agli archeologi dell’Università degli Studi di Ferrara. \nScopri il programma delle Giornate della Preistoria!
URL:https://www.grottedipradis.it/evento/giornate-della-preistoria-2025-una-giornata-da-sapiens/
LOCATION:Grotta del Clusantin
CATEGORIES:Bambini,Cultura,Eventi,Giornate della Preistoria
ATTACH;FMTTYPE=image/png:https://www.grottedipradis.it/wp-content/uploads/2025/09/giornate-della-preistoria.png
END:VEVENT
END:VCALENDAR