BEGIN:VCALENDAR
VERSION:2.0
PRODID:-//Grotte di Pradis - ECPv6.10.3//NONSGML v1.0//EN
CALSCALE:GREGORIAN
METHOD:PUBLISH
X-WR-CALNAME:Grotte di Pradis
X-ORIGINAL-URL:https://www.grottedipradis.it
X-WR-CALDESC:Eventi per Grotte di Pradis
REFRESH-INTERVAL;VALUE=DURATION:PT1H
X-Robots-Tag:noindex
X-PUBLISHED-TTL:PT1H
BEGIN:VTIMEZONE
TZID:Europe/Rome
BEGIN:DAYLIGHT
TZOFFSETFROM:+0100
TZOFFSETTO:+0200
TZNAME:CEST
DTSTART:20240331T010000
END:DAYLIGHT
BEGIN:STANDARD
TZOFFSETFROM:+0200
TZOFFSETTO:+0100
TZNAME:CET
DTSTART:20241027T010000
END:STANDARD
END:VTIMEZONE
BEGIN:VEVENT
DTSTART;TZID=Europe/Rome:20241006T100000
DTEND;TZID=Europe/Rome:20241013T160000
DTSTAMP:20260421T033115
CREATED:20240925T145125Z
LAST-MODIFIED:20240925T145802Z
UID:1409-1728208800-1728835200@www.grottedipradis.it
SUMMARY:domenica 6 e domenica 13 ottobre Giornate della Preistoria 2024
DESCRIPTION:Laboratori per ragazzi e adulti a cura degli archeologi dell’Università degli Studi di Ferrara e degli studenti e studentesse impegnati nel laboratorio archeologico di Grotta del Rio Secco. \nAttraverso i laboratori proposti\, i partecipanti verranno condotti a sperimentare la vita quotidiana di un gruppo di Sapiens (domenica 6 ottobre) e di un gruppo di Neandertal (domenica 13 ottobre)\, antichi abitatori della Valle di Pradis. \nDomenica 6 ottobre UNA GIORNATA DA SAPIENS \nsessione del mattino dalle ore 10 alle ore 12 \nsessione del pomeriggio dalle ore 14 alle ore 16 \nDomenica 13 ottobre UNA GIORNATA DA NEANDERTAL \nSessione del mattino dalle ore 10 alle ore 12 \nSessione del pomeriggio dalle ore 14 alle ore 16 \nIn ciascuna delle sessioni\, verranno svolte le seguenti attività\, secondo le tecniche proprie delle culture di ciascuna delle due specie umane\, in coerenza con le più recenti conoscenze scientifiche: scheggiatura della selce\, accensione del fuoco (dimostrazione)\, immanicatura degli strumenti\, caccia preistorica\, arte e produzione di gioielli. \nISCRIZIONI AI LABORATORI \nLe iscrizioni saranno ricevute esclusivamente via email all’indirizzo: giornatedellapreistoria@gmail.com \nNell’email di iscrizione indicare: \nnome\, cognome e data di nascita del partecipante \ngiornata di partecipazione (6 o 13 ottobre) \nsessione scelta (mattino con inizio alle ore 10 o pomeriggio con inizio alle ore 14) \nLe prenotazioni si intenderanno confermate solo al ricevimento di risposta da parte dell’organizzazione. Ciascun partecipante potrà iscriversi\, per ogni giornata\, ad una sola sessione. \nIn caso di pioggia i laboratori si svolgeranno sotto i ripari delle Grotte di Pradis.
URL:https://www.grottedipradis.it/evento/domenica-6-e-domenica-13-ottobre-giornate-della-preistoria-2024/
LOCATION:Grotta del Clusantin
CATEGORIES:Bambini
ATTACH;FMTTYPE=image/jpeg:https://www.grottedipradis.it/wp-content/uploads/2023/11/giornate-preistoria-gotte-di-pradis-foto-11.jpg
END:VEVENT
END:VCALENDAR