BEGIN:VCALENDAR
VERSION:2.0
PRODID:-//Grotte di Pradis - ECPv6.10.3//NONSGML v1.0//EN
CALSCALE:GREGORIAN
METHOD:PUBLISH
X-WR-CALNAME:Grotte di Pradis
X-ORIGINAL-URL:https://www.grottedipradis.it
X-WR-CALDESC:Eventi per Grotte di Pradis
REFRESH-INTERVAL;VALUE=DURATION:PT1H
X-Robots-Tag:noindex
X-PUBLISHED-TTL:PT1H
BEGIN:VTIMEZONE
TZID:Europe/Rome
BEGIN:DAYLIGHT
TZOFFSETFROM:+0100
TZOFFSETTO:+0200
TZNAME:CEST
DTSTART:20250330T010000
END:DAYLIGHT
BEGIN:STANDARD
TZOFFSETFROM:+0200
TZOFFSETTO:+0100
TZNAME:CET
DTSTART:20251026T010000
END:STANDARD
END:VTIMEZONE
BEGIN:VEVENT
DTSTART;TZID=Europe/Rome:20250927T103000
DTEND;TZID=Europe/Rome:20250927T103000
DTSTAMP:20260420T075422
CREATED:20250916T065801Z
LAST-MODIFIED:20250916T065801Z
UID:1500-1758969000-1758969000@www.grottedipradis.it
SUMMARY:Luca Mercalli - Dall'ultima glaciazione al riscaldamento globale: l'evoluzione del clima dal paleolitico al nostro futuro.
DESCRIPTION:Luca Mercalli\, presidente della Società meteorologica italiana\, giornalista scientifico e Ambasciatore del Patto Europeo per il Clima interverrà sul tema dell’evoluzione del clima dall’epoca dei nostri antenati a oggi. \nIl climatologo si confronterà con Marco Peresani\, ordinario di Culture del Paleolitico presso l’Università degli Studi di Ferrara. \nSi accede all’evento con il biglietto di ingresso alle Grotte\, in caso di maltempo l’incontro si terrà presso la Sala riunioni del Municipio a Clauzetto (via Giacomo Fabricio 10). \nScarica qui la locandina dell’evento.
URL:https://www.grottedipradis.it/evento/luca-mercalli-dallultima-glaciazione-al-riscaldamento-globale-levoluzione-del-clima-dal-paleolitico-al-nostro-futuro/
LOCATION:Grotte di Pradis\, Via Pradis di Sotto\, Clauzetto\, PN\, 33090\, Italia
ATTACH;FMTTYPE=image/png:https://www.grottedipradis.it/wp-content/uploads/2025/09/luca-mercalli.png
END:VEVENT
END:VCALENDAR